Workbook

Sheet 표지
B4: 시흥정왕푸드뱅크 3차 추경 예산서
G11: 2020년
E17: 시흥정왕푸드뱅크

Sheet 예산안 총칙
A2: 2020년 시흥정왕푸드뱅크 3차 추경 예산(안) 총칙
A3: 1. 2020년 시흥정왕푸드뱅크 세입․세출 예산안은 사회복지법인 재무․회계 규칙에 의거 아래와 같이 편성한다.
A4: 2. 2020년 3차 추경 예산은 2020년 2차 추경예산 팔천육백일십구만삼천육백일십원(\86,193,610) 보다 이천오백오십팔만칠백육십일원(\25,580,761 증감 29.7%) 증가한 일억일천일백칠십칠만사천삼백칠십일원(\111,774,371)으로 편성한다.
A5: 3. 기능보강비 추가와 전입금 증가로 인하여 예산을 재 편성함. ○ 업무추진비 200,000원 중 전체 업무추진비 100,000원 감소 - 회의비 100,000원 감소 ○ 운영비 16,108,000원 중 전체 운영비 770,000원 증가 - 여비 171,000원 감소 - 수용비 및 수수료 439,000원 증가 - 공공요금 30,000원 감소 - 제세공과금 1,000,000원 증가 - 차량비332,000원 감소 - 기타운영비 136,000원 감소 ○ 시설비 26,324,530원 중 전체 시설비 24,724,530원 증가 - 자산취득비 24,724,530원 증가 ○ 지역사회조직사업비 3,600,000원 중 전체 지역사회조직사업비 변동사항 없음 - 직원역량강화사업 50,000원 감소 - 홍보사업 50,000원 증가 - 기탁처 관리 사업 500,000원 증가 - 자원봉사자관리사업 500,000원 감소 - 자원봉사자관리사업 500,000원 감소 ○ 예비비 186,231 증가
A6: 4. 시흥정왕푸드뱅크 2020년 3차 추경 예산(안)
A7: 1)세입부 | G7: ( 단위 : 원 )
A8: 과목 | C8: 예산 | E8: 2020년 예산 대비 | F8: 비율(%) | G8: 비고
A9: 관 | B9: 항 | C9: 2020년 2차 추경 예산 | D9: 2020년 3차 추경 예산 | E9: 증▲감
A10: 보조금 | B10: 경상보조금 | C10: =세입세출총괄!D10 -> 68692690 | D10: =세입세출총괄!E9 -> 92692690 | E10: =D10-C10 -> 24000000 | F10: =(D10-C10)/C10 -> 0.34938215 | G10: 기능보강비 24,000,000원
A11: 후원금 | B11: 후원금 | C11: =세입세출총괄!D15 -> 15932000 | D11: =세입세출총괄!E15 -> 15932000 | E11: =D11-C11 -> 0 | F11: =(D11-C11)/C11 -> 0
A12: 전입금 | B12: 전입금 | C12: =세입세출총괄!D18 -> 1388920 | D12: =세입세출총괄!E18 -> 2963450 | E12: =D12-C12 -> 1574530 | F12: =(D12-C12)/C12 -> 1.1336362
A13: 이월금 | B13: 이월금 | C13: 173231 | D13: 173231 | E13: =D13-C13 -> 0 | F13: =(D13-C13)/C13 -> 0
A14: 잡수입 | B14: 잡수입 | C14: 6769 | D14: =세입세출총괄!E26 -> 13000 | E14: =D14-C14 -> 6231 | F14: =(D14-C14)/C14 -> 0.92052002
A15: 세입총계 | C15: =SUM(C10:C14) -> 86193610 | D15: =SUM(D10:D14) -> 111774371 | E15: =D15-C15 -> 25580761 | F15: =(D15-C15)/C15 -> 0.29678257
A17: 2)세출부 | G17: ( 단위 : 원 )
A18: 과목 | C18: 예산 | E18: 2020년 예산 대비 | F18: 비율(%) | G18: 비고
A19: 관 | B19: 항 | C19: 2020년 2차 추경 예산 | D19: 2020년 3차 추경 예산 | E19: 증▲감
A20: 사무비 | B20: 인건비 | C20: 59275610 | D20: 59275610 | E20: =D20-C20 -> 0 | F20: =(D20-C20)/C20 -> 0
B21: 업무추진비 | C21: 300000 | D21: 200000 | E21: =D21-C21 -> -100000 | F21: =(D21-C21)/C21 -> -0.33333333
B22: 운영비 | C22: 15338000 | D22: 16108000 | E22: =D22-C22 -> 770000 | F22: =(D22-C22)/C22 -> 0.050202112 | G22: 차량도색비
A23: 재산조성비 | B23: 시설비 | C23: 1600000 | D23: 26324530 | E23: =D23-C23 -> 24724530 | F23: =(D23-C23)/C23 -> 15.452831 | G23: 차량 기능보강비
A24: 사업비 | B24: 사업비 | C24: 9680000 | D24: 9680000 | E24: =D24-C24 -> 0 | F24: =(D24-C24)/C24 -> 0 | G24: 지역사회보호사업비, 자원봉사자관리사업 세목 내용 변경
A25: 잡지출 | B25: 잡지출 | C25: 0 | D25: 0 | E25: 0 | F25: =0 -> 0
A26: 예비비 | B26: 예비비 | C26: 0 | D26: 186231 | E26: =D26-C26 -> 186231 | F26: 0
A27: 세출총계 | C27: =SUM(C20:C26) -> 86193610 | D27: =SUM(D20:D26) -> 111774371 | E27: =D27-C27 -> 25580761 | F27: =(D27-C27)/C27 -> 0.29678257
A29: 5. 2020년도 3차 추경 세입. 세출 예산(안) 편성은 아래와 같이 본예산을 기준하여 편성한다.
A30: 1) 세출예산은 세입예산 범위 내에서 편성한다.
A31: 2) 직원의 보수는 2020년 시흥형일자리 인건비 가이드라인을 기준으로 한다.
A32: 3) 예산 과목은 관, 항, 목으로 구분하여 편성한다.
A34: 6. 국가 또는 지방자치단체로부터 교부된 보조금 및 지정후원금, 법인전입금 등은 추가경정 예산의 성립이전이라도 보조 및 후원목적에
A35: 적절한 경우 먼저 사용할 수 있으며, 이는 차기 추가경정예산에 반영하여야 한다.

Sheet 세입세출총괄
A1: 2020년 푸드뱅크 3차 추경 세입·세출 예산서
A2: (시흥정왕푸드뱅크)
A3: 1. 세입·세출 총괄
M4: (단위:원)
A5: 세 입 | H5: 세 출
A6: 관 | B6: 항 | C6: 목 | D6: 2020년 | E6: 2020년 | F6: 증감 (C=B-A) | G6: 비율 | H6: 관 | I6: 항 | J6: 목 | K6: 2020년 | L6: 2020년 | M6: 증감 (C=B-A) | N6: 비율
D7: 2차추경예산(B) | E7: 3차추경예산(B) | K7: 2차추경예산(B) | L7: 3차추경예산(B)
A8: 총 계 | D8: =D9+D15+D18+D21+D24 -> 86193610 | E8: =E9+E15+E18+E21+E24 -> 111774371 | F8: =E8-D8 -> 25580761 | G8: =F8/D8 -> 0.29678257 | H8: 총 계 | K8: =K9+K32+K37+K50 -> 86193610 | L8: =L9+L32+L37+L50 -> 111774371 | M8: =L8-K8 -> 25580761 | N8: =M8/K8 -> 0.29678257 | O8: =L8-E8 -> 0
A9: 보조금수입 계 | D9: =D10 -> 68692690 | E9: 92692690 | F9: =E9-D9 -> 24000000 | G9: =F9/D9 -> 0.34938215 | H9: 사무비 | K9: =K10+K15+K21+K25 -> 74913610 | L9: =L10+L15+L21+L25 -> 75583610 | M9: =L9-K9 -> 670000 | N9: =M9/K9 -> 0.0089436352
A10: 11 | B10: 경상보조금수입 | D10: =D11+D12+D13+D14 -> 68692690 | E10: 92692690 | F10: =E10-D10 -> 24000000 | G10: =F10/D10 -> 0.34938215 | I10: 푸드뱅크 인건비 | K10: =SUM(K11:K14) -> 34392690 | L10: =SUM(L11:L14) -> 34392690 | M10: =SUM(M11:M14) -> 0 | N10: =M10/K10 -> 0
C11: 푸드뱅크인건비 | D11: 34392690 | E11: 34392690 | F11: =E11-D11 -> 0 | G11: =F11/D11 -> 0 | J11: 급여 | K11: 24486480 | L11: =세출예산서!H8 -> 24486480 | M11: =L11-K11 -> 0 | N11: =M11/K11 -> 0
C12: 푸드뱅크운영비 | D12: 10300000 | E12: 10300000 | F12: =E12-D12 -> 0 | G12: =F12/D12 -> 0 | J12: 제수당 | K12: 4368650 | L12: =세출예산서!H10 -> 4368650 | M12: =L12-K12 -> 0 | N12: =M12/K12 -> 0
C13: G-푸드 사업비 | D13: 24000000 | E13: 24000000 | F13: =E13-D13 -> 0 | G13: =F13/D13 -> 0 | J13: 퇴직금및퇴직적립금 | K13: 2404600 | L13: =세출예산서!H14 -> 2404600 | M13: =L13-K13 -> 0 | N13: =M13/K13 -> 0
C14: 기능보강비 | D14: 0 | E14: 24000000 | F14: =E14-D14 -> 24000000 | G14: 0 | J14: 사회보험부담비용 | K14: 3132960 | L14: =세출예산서!H16 -> 3132960 | M14: =L14-K14 -> 0 | N14: =M14/K14 -> 0
A15: 후원금 계 | D15: =D16 -> 15932000 | E15: =E16 -> 15932000 | F15: =E15-D15 -> 0 | G15: =F15/D15 -> 0 | I15: G-푸드드림 인건비 | K15: =SUM(K16:K20) -> 24882920 | L15: =SUM(L16:L20) -> 24882920 | M15: =SUM(M16:M20) -> 0 | N15: =M15/K15 -> 0
A16: 21 | B16: 후원금 | D16: =D17 -> 15932000 | E16: =E17 -> 15932000 | F16: =E16-D16 -> 0 | G16: =F16/D16 -> 0 | J16: 급여 | K16: 20974400 | L16: =세출예산서!H24 -> 20974400 | M16: =L16-K16 -> 0 | N16: =M16/K16 -> 0
C17: 지정후원금 | D17: 15932000 | E17: =세입예산서!G13 -> 15932000 | F17: =E17-D17 -> 0 | G17: =F17/D17 -> 0 | J17: 제수당 | K17: 366420 | L17: =세출예산서!H27 -> 366420 | M17: =L17-K17 -> 0 | N17: 1
A18: 전입금 계 | D18: =D19 -> 1388920 | E18: =E19 -> 2963450 | F18: =E18-D18 -> 1574530 | G18: =F18/D18 -> 1.1336362 | J18: 퇴직금및퇴직적립금 | K18: 1710000 | L18: =세출예산서!H30 -> 1710000 | M18: =L18-K18 -> 0 | N18: =M18/K18 -> 0
A19: 31 | B19: 전입금 | D19: =D20 -> 1388920 | E19: =E20 -> 2963450 | F19: =E19-D19 -> 1574530 | G19: =F19/D19 -> 1.1336362 | J19: 사회보험부담비용 | K19: 1832100 | L19: =세출예산서!H32 -> 1832100 | M19: =L19-K19 -> 0 | N19: =M19/K19 -> 0
C20: 전입금 | D20: 1388920 | E20: =세입예산서!G16 -> 2963450 | F20: =E20-D20 -> 1574530 | G20: =F20/D20 -> 1.1336362 | J20: 기타후생경비 | K20: 0 | L20: 0 | M20: =L20-K20 -> 0 | N20: 0
A21: 이월금 계 | D21: =D22 -> 173231 | E21: 173231 | F21: =E21-D21 -> 0 | G21: =F21/D21 -> 0 | I21: 업무추진비 | K21: =K22+K23+K24 -> 300000 | L21: =L22+L23+L24 -> 200000 | M21: =L21-K21 -> -100000 | N21: =M21/K21 -> -0.33333333
A22: 41 | B22: 이월금 | D22: =D23 -> 173231 | E22: 173231 | F22: =E22-D22 -> 0 | G22: =F22/D22 -> 0 | J22: 기관운영비 | K22: 200000 | L22: =세출예산서!H42 -> 200000 | M22: =L22-K22 -> 0 | N22: =M22/K22 -> 0
C23: 전년도이월금(전입금) | D23: 173231 | E23: =세입예산서!G19 -> 173231 | F23: =E23-D23 -> 0 | G23: =F23/D23 -> 0 | J23: 직책보조비 | K23: 0 | L23: 0 | M23: =L23-K23 -> 0 | N23: 0
A24: 잡수입 계 | D24: =D25 -> 6769 | E24: =E25 -> 13000 | F24: =E24-D24 -> 6231 | G24: =F24/D24 -> 0.92052002 | J24: 회의비 | K24: 100000 | L24: =세출예산서!H44 -> 0 | M24: =L24-K24 -> -100000 | N24: =M24/K24 -> -1
A25: 51 | B25: 잡수입 | D25: =SUM(D26:D27) -> 6769 | E25: =E26 -> 13000 | F25: =E25-D25 -> 6231 | G25: =F25/D25 -> 0.92052002 | I25: 운영비 | K25: =SUM(K26:K31) -> 15338000 | L25: =SUM(L26:L31) -> 16108000 | M25: =L25-K25 -> 770000 | N25: =M25/K25 -> 0.050202112
C26: 이자수입 | D26: 6769 | E26: =세입예산서!G22 -> 13000 | F26: =E26-D26 -> 6231 | G26: =F26/D26 -> 0.92052002 | J26: 여비 | K26: 192000 | L26: =세출예산서!H46 -> 21000 | M26: =L26-K26 -> -171000 | N26: =M26/K26 -> -0.890625
C27: 기타잡수입 | D27: 0 | E27: 0 | F27: =E27-D27 -> 0 | J27: 수용비및수수료 | K27: 1027000 | L27: =세출예산서!H48 -> 1466000 | M27: =L27-K27 -> 439000 | N27: =M27/K27 -> 0.42745862
J28: 공공요금 | K28: 1161000 | L28: =세출예산서!H56 -> 1131000 | M28: =L28-K28 -> -30000 | N28: =M28/K28 -> -0.025839793
J29: 제세공과금 | K29: 2490000 | L29: =세출예산서!H60 -> 3490000 | M29: =L29-K29 -> 1000000 | N29: =M29/K29 -> 0.40160643
J30: 차량비 | K30: 3100000 | L30: =세출예산서!H66 -> 2768000 | M30: =L30-K30 -> -332000 | N30: =M30/K30 -> -0.10709677
J31: 기타운영비 | K31: 7368000 | L31: =세출예산서!H70 -> 7232000 | M31: =L31-K31 -> -136000 | N31: =M31/K31 -> -0.018458198
H32: 재산조성비 | K32: =K33 -> 1600000 | L32: 26324530 | M32: =M33 -> 24724530 | N32: =N33 -> 15.452831
I33: 시설비 | K33: =SUM(K34:K36) -> 1600000 | L33: 26324530 | M33: =L33-K33 -> 24724530 | N33: =M33/K33 -> 15.452831
J34: 시설비 | K34: 0 | L34: 0 | M34: 0 | N34: 1
J35: 자산취득비 | K35: 1400000 | L35: =세출예산서!H77 -> 26124530 | M35: =L35-K35 -> 24724530 | N35: =M35/K35 -> 17.660379
J36: 시설장비유지비 | K36: 200000 | L36: =세출예산서!H80 -> 200000 | M36: =L36-K36 -> 0 | N36: =M36/K36 -> 0
H37: 사업비 | K37: =K38+K41 -> 9680000 | L37: =L38+L41 -> 9680000 | M37: =L37-K37 -> 0 | N37: =M37/K37 -> 0
I38: 지역사회보호사업비 | K38: =K39+K40 -> 6080000 | L38: =L39+L40 -> 6080000 | M38: =L38-K38 -> 0 | N38: =M38/K38 -> 0
J39: 도시락지원사업 | K39: 1000000 | L39: =세출예산서!H83 -> 1000000 | M39: =L39-K39 -> 0 | N39: =M39/K39 -> 0
J40: 식품지원사업 | K40: 5080000 | L40: =세출예산서!H85 -> 5080000 | M40: =L40-K40 -> 0 | N40: =M40/K40 -> 0
...

Sheet 세입예산서
B1: 2. 세입예산 각목명세서 | L1: (단위:원)
B2: 예산과목 | E2: 기정예산 (A) | F2: 2020년 | G2: 2020년 | H2: 증(△)감 (C=B-A) | I2: 세부산출내역
B3: 관 | C3: 항 | D3: 목 | F3: 2차추경예산(A) | G3: 3차추경예산(B)
B4: 합 계 | E4: 76658000 | F4: =F5+F11+F14+F17+F20 -> 86193610 | G4: =G5+G11+G14+G17+G20 -> 111774371 | H4: =G4-F4 -> 25580761 | L4: 0
B5: 보조금수입 | E5: 63858000 | F5: =F6 -> 68692690 | G5: 92692690 | H5: =G5-F5 -> 24000000
C6: 경상보조금수입 | E6: 63858000 | F6: =F7+F8+F9+F10 -> 68692690 | G6: 92692690 | H6: =G6-F6 -> 24000000 | L6: 0
D7: 푸드뱅크 인건비 | E7: 39858000 | F7: 34392690 | G7: 34392690 | H7: =G7-F7 -> 0 | I7: 푸드뱅크 보조금(인건비) | L7: 0
D8: 푸드뱅크 운영비 | F8: 10300000 | G8: 10300000 | H8: =G8-F8 -> 0 | I8: 푸드뱅크 보조금(운영비)
D9: G-푸드 사업비 | E9: 24000000 | F9: 24000000 | G9: 24000000 | H9: =G9-F9 -> 0 | I9: G-푸드사업 보조금
D10: 기타보조금(기능보강비) | F10: 0 | G10: 24000000 | H10: =G10-F10 -> 24000000 | I10: 시 보조금(기능보강비)
B11: 후원금 | E11: 2300000 | F11: =F12 -> 15932000 | G11: =G12 -> 15932000 | H11: =G11-F11 -> 0
C12: 후원금 | E12: 2300000 | F12: =F13 -> 15932000 | G12: =G13 -> 15932000 | H12: =G12-F12 -> 0
D13: 지정후원금 | F13: 15932000 | G13: 15932000 | H13: =G13-F13 -> 0
B14: 전입금 | E14: 2000000 | F14: =F15 -> 1388920 | G14: =G15 -> 2963450 | H14: =G14-F14 -> 1574530
C15: 전입금 | E15: 2000000 | F15: =F16 -> 1388920 | G15: =G16 -> 2963450 | H15: =G15-F15 -> 1574530 | L15: 0
D16: 전입금 | E16: 2000000 | F16: 1388920 | G16: 2963450 | H16: =G16-F16 -> 1574530 | L16: 0
B17: 이월금 | E17: =E18 -> #REF! | F17: 173231 | G17: 173231 | H17: =G17-F17 -> 0
C18: 이월금 | E18: =#REF! -> #REF! | F18: =F19 -> 173231 | G18: 173231 | H18: =G18-F18 -> 0
D19: 전년도이월금 | E19: 0 | F19: 173231 | G19: 173231 | H19: =G19-F19 -> 0
B20: 잡수입 | F20: 6769 | G20: =G21 -> 13000
C21: 잡수입 | F21: =F22+F23 -> 6769 | G21: =G22 -> 13000 | H21: =G21-F21 -> 6231
D22: 이자수입 | F22: 6769 | G22: 13000 | H22: =G22-F22 -> 6231 | I22: 12월 이자수입 반영분
D23: 기타잡수입 | F23: 0 | G23: 0 | H23: =G23-F23 -> 0
G26: =G4-세입세출총괄!E8 -> 0

Sheet 세출예산서
B2: 3. 세출예산각목명세서 | Q2: (단위:원)
B3: 예산과목 | E3: 기정예산 (A) | F3: 증(△)감 (C=B-A) | G3: 2020년 | H3: 2020년 | I3: 증감 | J3: 소요재원구성 | N3: 세부산출내역
B4: 관 | C4: 항 | D4: 목 | G4: 2차추경예산(A) | H4: 3차추경예산(B) | I4: (B)-(A) | J4: 시비 | K4: 전입금 | L4: 후원금 | M4: 자부담
B5: 합 계 | E5: 76658000 | F5: =F6+F74+F81+F106 -> #REF! | G5: =G6+G74+G81+G106 -> 86193610 | H5: =H6+H75+H81+H106 -> 111774371 | I5: =I6+I74+I81+I106 -> 25580761 | J5: =J6+J74+J81+J106 -> 92692690 | K5: =K6+K74+K81+K106 -> 2963450 | L5: =L6+L74+L81+L106 -> 15932000 | M5: =M6+M74+M81+M106 -> 186231
B6: 사무비 | E6: 71960000 | F6: =F7+F41+F45 -> #REF! | G6: =G7+G23+G41+G45 -> 74913610 | H6: =H7+H23+H41+H45 -> 75583610 | I6: =H6-G6 -> 670000 | J6: =J7+J23+J41+J45 -> 68092690 | K6: =K7+K23+K41+K45 -> 2038920 | L6: =L7+L23+L41+L45 -> 5452000
C7: 푸드 인건비 | E7: 35270000 | F7: =F8+#REF!+F10+F14+F16 -> #REF! | G7: =G8+G10+G14+G16 -> 34392690 | H7: =SUM(H8:H22) -> 34392690 | I7: =H7-G7 -> 0 | J7: =J8+J10+J14+J16 -> 34392690 | K7: =K8+K10+K14+K16 -> 0 | Q7: =Q8+Q10+Q14+Q16 -> 34392690
D8: 급여 | E8: 27120000 | F8: =E8-#REF! -> #REF! | G8: 24486480 | H8: =J8+K8+L8 -> 24486480 | I8: =H8-G8 -> 0 | J8: =Q8-K8 -> 24486480 | Q8: =Q9 -> 24486480
N9: Ｏ사회복지사 | O9: 2,040,540원*12월 | P9: = | Q9: 24486480
D10: 제수당 | E10: 2980000 | F10: =E10-#REF! -> #REF! | G10: 4368650 | H10: =J10+K10+L10 -> 4368650 | I10: =H10-G10 -> 0 | J10: =Q10-K10 -> 4368650 | Q10: =Q11+Q12+Q13 -> 4368650
N11: Ｏ가족수당 | O11: 0 | P11: = | Q11: 0
N12: Ｏ명절휴가비 | O12: 2,040,540원 * 60%*2회 | P12: = | Q12: 2448650
N13: Ｏ시간외수당 | O13: 160,000원*12월 | P13: = | Q13: 1920000
D14: 퇴직금및퇴직적립금 | E14: 2260000 | F14: =E14-#REF! -> #REF! | G14: 2404600 | H14: =J14+K14+L14 -> 2404600 | I14: =H14-G14 -> 0 | J14: =Q14-K14 -> 2404600 | Q14: =Q15 -> 2404600 | V14: 111688140
N15: Ｏ퇴직적립금 | O15: 28,855,130원/12 | P15: = | Q15: 2404600 | V15: 111774371
D16: 사회보험부담비용 | E16: 2910000 | F16: =E16-#REF! -> #REF! | G16: 3132960 | H16: =J16+K16+L16 -> 3132960 | I16: =H16-G16 -> 0 | J16: =Q16-K16 -> 3132960 | Q16: =Q18+Q19+Q20+Q21+Q22 -> 3132960 | V16: =V14-V15 -> -86231
N17: ㅇ사회보험
N18: ㅇ건강보험 | O18: 28,855,130원*3.335% | P18: = | Q18: 962400
N19: ㅇ장기요양보험 | O19: 28,855,130원*3.335%*10.25% | P19: = | Q19: 98650
N20: ㅇ국민연금 | O20: 28,855,130원*4.5% | P20: = | Q20: 1298500
N21: ㅇ고용보험 | O21: 28,855,130원*1.65% | P21: = | Q21: 476110
N22: ㅇ산재보험 | O22: 28,855,130원*1.03% | P22: = | Q22: 297300
C23: G-푸드드림사업 인건비 | E23: 24000000 | F23: =F24+#REF!+F32+F34 -> #REF! | G23: =G24+G27+G30+G32+G39 -> 24882920 | H23: =H24+H27+H30+H32+H39 -> 24882920 | I23: =I24+I27+I30+I32+I39 -> 0 | J23: =J24+J27+J30+J32+J39 -> 24000000 | K23: =K24+K27+K30+K32+K39 -> 882920 | L23: =L24+L30+L32+L39 -> 0 | Q23: =Q24+Q27+Q30+Q32+Q39 -> 24882920
D24: 급여 | E24: 18876000 | F24: 15264000 | G24: 20974400 | H24: =J24+K24+L24 -> 20974400 | I24: =H24-G24 -> 0 | J24: 20452400 | K24: 522000 | Q24: =Q25+Q26 -> 20974400
N25: Ｏ급여 | O25: 1,832,100*11월 | P25: = | Q25: 20153100
O26: 821,300*1월 | P26: = | Q26: 821300
D27: 제수당 | E27: 0 | G27: 366420 | H27: =J27+K27+L27 -> 366420 | I27: =H27-G27 -> 0 | J27: 366420 | Q27: =Q28+Q29 -> 366420
N28: Ｏ명절수당 | O28: 1,832,100원*20% | P28: = | Q28: 366420
N29: Ｏ시간외수당 | O29: 0 | P29: = | Q29: 0
D30: 퇴직금및퇴직적립금 | E30: 1573000 | F30: 1696000 | G30: 1710000 | H30: =J30+K30+L30 -> 1710000 | I30: =H30-G30 -> 0 | J30: 1618500 | K30: 91500 | Q30: =Q31 -> 1710000
N31: Ｏ퇴직적립금 | O31: 20,519,520원/12 | P31: = | Q31: 1710000
D32: 사회보험부담비용 | E32: 1978000 | F32: 1877000.5 | G32: 1832100 | H32: =Q32 -> 1832100 | I32: =H32-G32 -> 0 | J32: 1562680 | K32: 269420 | Q32: =SUM(Q34:Q38) -> 1832100
N33: Ｏ사회보험
N34: ㅇ건강보험 | O34: 20,519,520원*3.335% | P34: = | Q34: 684400
N35: ㅇ장기요양보험 | O35: 20,519,520원*3.335%*10.25% | P35: = | Q35: 70200
N36: ㅇ국민연금 | O36: 20,519,520원*4.5%*80% | P36: = | Q36: 738800
N37: ㅇ고용보험 | O37: 20,519,520원*1.05%*80% | P37: = | Q37: 172400
N38: ㅇ산재보험 | O38: 20,519,520원*1명*0.81% | P38: = | Q38: 166300
D39: 기타후생경비 | G39: 0 | H39: =J39+K39+L39 -> 0 | I39: =H39-G39 -> 0 | K39: 0 | Q39: =Q40 -> 0
N40: Ｏ명절상여금 | O40: 0 | P40: = | Q40: 0
C41: 업무추진비 | E41: 0 | F41: =E41-#REF! -> #REF! | G41: =G42+G43+G44 -> 300000 | H41: =J41+K41+L41 -> 200000 | I41: =I42+I43+I44 -> -100000 | J41: =J42+J43+J44 -> 0 | K41: =K42+K43+K44 -> 200000 | Q41: =Q42+Q43+Q44 -> 200000
...
